BEGIN:VCALENDAR
VERSION:2.0
PRODID:-//Extatic Sound - ECPv6.15.20//NONSGML v1.0//EN
CALSCALE:GREGORIAN
METHOD:PUBLISH
X-WR-CALNAME:Extatic Sound
X-ORIGINAL-URL:https://extaticsound.com
X-WR-CALDESC:Events for Extatic Sound
REFRESH-INTERVAL;VALUE=DURATION:PT1H
X-Robots-Tag:noindex
X-PUBLISHED-TTL:PT1H
BEGIN:VTIMEZONE
TZID:UTC
BEGIN:STANDARD
TZOFFSETFROM:+0000
TZOFFSETTO:+0000
TZNAME:UTC
DTSTART:20210101T000000
END:STANDARD
END:VTIMEZONE
BEGIN:VEVENT
DTSTART;TZID=UTC:20220716T220000
DTEND;TZID=UTC:20220717T040000
DTSTAMP:20260423T170127
CREATED:20220517T010518Z
LAST-MODIFIED:20220517T010519Z
UID:754-1658008800-1658030400@extaticsound.com
SUMMARY:Extatic Sound 3rd Year Anniversary
DESCRIPTION:
URL:https://extaticsound.com/event/extatic-sound-3rd-year-anniversary/
END:VEVENT
BEGIN:VEVENT
DTSTART;TZID=UTC:20220618T190000
DTEND;TZID=UTC:20220619T040000
DTSTAMP:20260423T170127
CREATED:20220517T012657Z
LAST-MODIFIED:20220517T012732Z
UID:758-1655578800-1655611200@extaticsound.com
SUMMARY:The Red & Black Soirée (DJ Reem & Craigis Illusion Birthday Celebration)
DESCRIPTION:
URL:https://extaticsound.com/event/the-red-black-soiree-dj-reem-craigis-illusion-birthday-celebration/
END:VEVENT
BEGIN:VEVENT
DTSTART;TZID=UTC:20220306T160000
DTEND;TZID=UTC:20220306T220000
DTSTAMP:20260423T170127
CREATED:20220217T055910Z
LAST-MODIFIED:20220218T010211Z
UID:538-1646582400-1646604000@extaticsound.com
SUMMARY:Colors Music Fete
DESCRIPTION:Colors Music Fete is an All-Inclusive food and drinks event with a unique line up of entertainment from 4PM to 10PM on March 6th\, 2022.
URL:https://extaticsound.com/event/colors-music-fete/
ATTACH;FMTTYPE=image/jpeg:https://extaticsound.com/wp-content/uploads/2022/02/IMG-7859.jpg
END:VEVENT
BEGIN:VEVENT
DTSTART;TZID=UTC:20220218T220000
DTEND;TZID=UTC:20220219T040000
DTSTAMP:20260423T170127
CREATED:20220218T005820Z
LAST-MODIFIED:20220218T010036Z
UID:638-1645221600-1645243200@extaticsound.com
SUMMARY:Seduce Friday Nights: Music of the 2000s
DESCRIPTION:
URL:https://extaticsound.com/event/seduce-friday-nights-music-of-the-2000s/
LOCATION:Moments Bar & Grill\, 6455 W Commercial Blvd.\, Tamarac\, FL\, United States
ATTACH;FMTTYPE=image/jpeg:https://extaticsound.com/wp-content/uploads/2022/02/273950260_652193432687032_768429610600235036_n.jpg
END:VEVENT
END:VCALENDAR